BEGIN:VCALENDAR
VERSION:2.0
PRODID:-// - ECPv6.15.13//NONSGML v1.0//EN
CALSCALE:GREGORIAN
METHOD:PUBLISH
X-ORIGINAL-URL:https://www.azsce.org
X-WR-CALDESC:Events for 
REFRESH-INTERVAL;VALUE=DURATION:PT1H
X-Robots-Tag:noindex
X-PUBLISHED-TTL:PT1H
BEGIN:VTIMEZONE
TZID:America/Phoenix
BEGIN:STANDARD
TZOFFSETFROM:-0700
TZOFFSETTO:-0700
TZNAME:MST
DTSTART:20200101T000000
END:STANDARD
END:VTIMEZONE
BEGIN:VEVENT
DTSTART;TZID=America/Phoenix:20210624T170000
DTEND;TZID=America/Phoenix:20210624T190000
DTSTAMP:20260421T084732
CREATED:20210607T214531Z
LAST-MODIFIED:20210621T215017Z
UID:11828-1624554000-1624561200@www.azsce.org
SUMMARY:ASCE AZ Section Monthly Board Meeting
DESCRIPTION:
URL:https://www.azsce.org/event/az-section-monthly-board-meeting/
LOCATION:AZ
ORGANIZER;CN="ASCE AZ Section":MAILTO:admin@azsce.org
END:VEVENT
END:VCALENDAR